BEGIN:VCALENDAR
VERSION:2.0
PRODID:-//Tukios.com/
BEGIN:VEVENT
UID:6355fa04-e1d3-4909-b818-3f6a6a44c891@www.letromcintoshspinkfuneralhome.com
DTSTAMP:20260421T012628Z
DTSTART:20260425T190000Z
DTEND:20260425T200000Z
SUMMARY:Memorial Service
DESCRIPTION:
URL:https://www.letromcintoshspinkfuneralhome.com/obituaries/william-woodring
LOCATION: 646 E State St  Olean NY 14760
GEO:42.0771374;-78.418391
END:VEVENT
END:VCALENDAR