BEGIN:VCALENDAR
VERSION:2.0
PRODID:-//Tukios.com/
BEGIN:VEVENT
UID:39912546-b0f0-4a29-839a-123794dc6ac6@www.letromcintoshspinkfuneralhome.com
DTSTAMP:20260421T012433Z
DTSTART:20260425T170000Z
DTEND:20260425T190000Z
SUMMARY:Memorial Gathering
DESCRIPTION:
URL:https://www.letromcintoshspinkfuneralhome.com/obituaries/william-woodring
LOCATION: 646 E State St  Olean NY 14760
GEO:42.0771374;-78.418391
END:VEVENT
END:VCALENDAR