BEGIN:VCALENDAR
VERSION:2.0
PRODID:-//Tukios.com/
BEGIN:VEVENT
UID:d5828827-76f1-4ab5-893f-dc0534945443@www.letromcintoshspinkfuneralhome.com
DTSTAMP:20260421T084800Z
DTSTART:20260620T140000Z
DTEND:20260620T150000Z
SUMMARY:Memorial Service
DESCRIPTION:
URL:https://www.letromcintoshspinkfuneralhome.com/obituaries/craig-senfield
LOCATION: 202 South Union Street  Olean NY 14760
GEO:42.0751247;-78.431026
END:VEVENT
END:VCALENDAR